BEGIN:VCALENDAR
VERSION:2.0
PRODID:-//Napa Solano Audubon Society - ECPv6.15.20//NONSGML v1.0//EN
CALSCALE:GREGORIAN
METHOD:PUBLISH
X-WR-CALNAME:Napa Solano Audubon Society
X-ORIGINAL-URL:https://napasolanobirds.org
X-WR-CALDESC:Events for Napa Solano Audubon Society
REFRESH-INTERVAL;VALUE=DURATION:PT1H
X-Robots-Tag:noindex
X-PUBLISHED-TTL:PT1H
BEGIN:VTIMEZONE
TZID:America/Los_Angeles
BEGIN:DAYLIGHT
TZOFFSETFROM:-0800
TZOFFSETTO:-0700
TZNAME:PDT
DTSTART:20250309T100000
END:DAYLIGHT
BEGIN:STANDARD
TZOFFSETFROM:-0700
TZOFFSETTO:-0800
TZNAME:PST
DTSTART:20251102T090000
END:STANDARD
BEGIN:DAYLIGHT
TZOFFSETFROM:-0800
TZOFFSETTO:-0700
TZNAME:PDT
DTSTART:20260308T100000
END:DAYLIGHT
BEGIN:STANDARD
TZOFFSETFROM:-0700
TZOFFSETTO:-0800
TZNAME:PST
DTSTART:20261101T090000
END:STANDARD
BEGIN:DAYLIGHT
TZOFFSETFROM:-0800
TZOFFSETTO:-0700
TZNAME:PDT
DTSTART:20270314T100000
END:DAYLIGHT
BEGIN:STANDARD
TZOFFSETFROM:-0700
TZOFFSETTO:-0800
TZNAME:PST
DTSTART:20271107T090000
END:STANDARD
END:VTIMEZONE
BEGIN:VEVENT
DTSTART;TZID=America/Los_Angeles:20260423T080000
DTEND;TZID=America/Los_Angeles:20260423T160000
DTSTAMP:20260423T014307
CREATED:20260305T212826Z
LAST-MODIFIED:20260411T161549Z
UID:10000089-1776931200-1776960000@napasolanobirds.org
SUMMARY:NSAS’s April Field Trip to Mount Diablo’s Mitchell Canyon\, Thursday\, April 23rd at 8:00 a.m. - with Bruce Thomsen & Mark Stephenson
DESCRIPTION:This is the perfect time of year to view Mt. Diablo’s Migrants and Resident Birds. Deer Flat Creek is flowing from Spring showers and the canyon is resounding with bird song. Resident Anna’s and migrating Calliope Hummingbirds are feeding on spring flowers and males can be heard zipping down from hundreds of feet up in their display flights hoping to impress a mate. Acorn\, Nuttall’s & Downy Woodpeckers are actively chiseling out nests. Olive-sided\, Western and Ash-throated Flycatchers are setting up territories and Hammond’s are passing though on their way to the Sierras. Hutton’s and Warbling Vireos will be actively starting nest building. Warblers including our resident Orange-crowned and Wilson’s will be singing along riparian corridors and Yellow-rumped\, Nashville\, Black-throated Gray along with an occasional Hermit will be feeding in the trees tops. In the higher chaparral we expect to find CA Thrashers\, Rufous-crowned and Bell’s Sparrows. There is a $6.00 Parking Fee that requires cash or check. \nClick here to register for this Field Trip!
URL:https://napasolanobirds.org/calendar/nsass-april-field-trip-to-mount-diablos-mitchell-canyon-thursday-april-23rd-at-800-a-m-with-bruce-thomsen-mark-stephenson/
LOCATION:Mitchell Canyon\, Mount Diablo\, 96 Mitchell Canyon Road\, Clayton\, CA\, 94517\, United States
ATTACH;FMTTYPE=image/jpeg:https://napasolanobirds.org/wp-content/uploads/2026/03/Calliope-Hummingbird_MS_4S8A8889-DeNoise-standard-e1772746094820.jpg
END:VEVENT
END:VCALENDAR